BEGIN:VCALENDAR
VERSION:2.0
PRODID:-//eventon.com NONSGML v1.0//EN
CALSCALE:GREGORIAN
METHOD:PUBLISH
BEGIN:VEVENT
UID:69e7397a8f919
DTSTAMP:20260421T084650Z
DTSTART:20210330T080000Z
DTEND:20210401T140000Z
LOCATION:Volkshochschule Erfurt Schottenstraße 7
SUMMARY:Selbstsicherheits- und Selbstverteidigungstraining (von 6 bis 9 Jahre)
DESCRIPTION:Immer wieder wird Ihr Kind Situationen ausgesetzt\,  bei welche
 n es am liebsten in Panik oder Angst ausbrechen möchte? In diesem Sicherhe
 itskurs lernt Ihr Kind solche grenzüberschreitenden Situationen frühzeiti
 g zu erkennen und vorausschauend für seinen eigenen Schutz zu sorgen. Durc
 h gemeinsame (Rollen-)Spiele\,  Gespräche und einfache\,  effektive Selbst
 verteidigungstechniken wird die Selbstsicherheit Ihres[..]\nhttps://stadtju
 gendring-erfurt.de/events/selbstsicherheits-und-selbstverteidigungstraining
 -von-6-bis-9-jahre
URL:https://stadtjugendring-erfurt.de/events/selbstsicherheits-und-selbstverteidigungstraining-von-6-bis-9-jahre
END:VEVENT
END:VCALENDAR