BEGIN:VCALENDAR
VERSION:2.0
PRODID:-//eventon.com NONSGML v1.0//EN
CALSCALE:GREGORIAN
METHOD:PUBLISH
BEGIN:VEVENT
UID:69e4df56adda9
DTSTAMP:20260419T135742Z
DTSTART:20201023T140000Z
DTEND:20201023T160000Z
LOCATION:JH Fritzer JH Fritzer\,  Talstraße 13\,  99089 Erfurt
SUMMARY:Wii Just Dance im Jugendhaus Fritzer
DESCRIPTION:23.10.2020\,  ab 16.00 Uhr: Wii Just Dance (10 – 27 Jahre) Co
 mputerspielen macht dick und träge? Wir beweisen das Gegenteil mit Tanz un
 d Bewegung mit dem allseits beliebten Spiel „Just Dance“ für die Ninte
 ndo Wii. &nbsp;\nhttps://stadtjugendring-erfurt.de/events/wii-just-dance-im
 -jugendhaus-fritzer
URL:https://stadtjugendring-erfurt.de/events/wii-just-dance-im-jugendhaus-fritzer
END:VEVENT
END:VCALENDAR