BEGIN:VCALENDAR
VERSION:2.0
PRODID:-//eventon.com NONSGML v1.0//EN
CALSCALE:GREGORIAN
METHOD:PUBLISH
BEGIN:VEVENT
UID:69e76fb175231
DTSTAMP:20260421T123809Z
DTSTART:20201020T120000Z
DTEND:20201020T150000Z
LOCATION:Freizeitreff Schwerborn Kastanienstr. 15\,  99095 Erfurt (Schwerborn)
SUMMARY:Basteln zu Halloween im Freizeittreff Schwerborn
DESCRIPTION:20.10. ab 14 Uhr „Basteln zu Halloween“ Halloween steht vor
  der Tür. Damit ihr euch schon ein klein wenig darauf einstimmen könnt\, 
  stehen unterschiedliche Angebote zur Verfügung. Für unsere Bastelfreunde
  verschiedene kleine Monster sowie Gespenster und für  diejenigen\,  die 
 sich gerne verkleiden individuelle Masken in Eigenproduktion. &nbsp; &nbsp;
 \nhttps://stadtjugendring-erfurt.de/events/ferienangebote-im-freizeittreff-
 schwerborn
URL:https://stadtjugendring-erfurt.de/events/ferienangebote-im-freizeittreff-schwerborn
END:VEVENT
END:VCALENDAR