BEGIN:VCALENDAR
VERSION:2.0
PRODID:-//eventon.com NONSGML v1.0//EN
CALSCALE:GREGORIAN
METHOD:PUBLISH
BEGIN:VEVENT
UID:69e7552f3beb6
DTSTAMP:20260421T104503Z
DTSTART:20201026T080000Z
DTEND:20201030T150000Z
LOCATION:Stadtjugendwerk der AWO Erfurt Juri-Gagarin-Ring 68/70\,  99084 Erfurt
SUMMARY:Herbstferienspiele des Stadtjugendwerks der AWO Erfurt
DESCRIPTION:In der zweiten Herbstferienwoche öffnen wir jeden Tag unsere T
 üren von 9-16 Uhr. Wir wollen mit den Kindern Drachen basteln und steigen 
 lassen\,  Halloweenkostüme basteln und uns verkleiden\,  einen Ausflug zum
  Waldspielplatz in den Steiger machen und einiges mehr. Anhand der Wetterla
 ge und gemeinsam mit den Kindern wollen wir konkret[..]\nhttps://stadtjugen
 dring-erfurt.de/events/herbstferienspiele-des-stadtjugendwerks-der-awo-erfu
 rt
URL:https://stadtjugendring-erfurt.de/events/herbstferienspiele-des-stadtjugendwerks-der-awo-erfurt
END:VEVENT
END:VCALENDAR