BEGIN:VCALENDAR
VERSION:2.0
PRODID:-//eventon.com NONSGML v1.0//EN
CALSCALE:GREGORIAN
METHOD:PUBLISH
BEGIN:VEVENT
UID:69e9d6c767592
DTSTAMP:20260423T082231Z
DTSTART:20200728
DTEND:20200729
LOCATION:Mädchenzentrum\,  PERSPEKTIV e.V. Kronenburggasse 13\,  99084
SUMMARY:Ferienfreizeit Bergsee Ratscher - Mädchenzentrum Erfurt
DESCRIPTION:Di. 28. bis Fr.31. Juli   Ferienfreizeit Bergsee Ratscher  (
 55 €) Kontakt: Information und Anmeldung unter: 0361-6438344 Mädchenzent
 rum\,  Kronenburggasse 13\,  99084 Erfurt www.perspektiv-erfurt.de\nhttps:/
 /stadtjugendring-erfurt.de/events/ferienfreizeit-bergsee-ratscher-maedchenz
 entrum-erfurt
URL:https://stadtjugendring-erfurt.de/events/ferienfreizeit-bergsee-ratscher-maedchenzentrum-erfurt
END:VEVENT
END:VCALENDAR