BEGIN:VCALENDAR
VERSION:2.0
PRODID:-//eventon.com NONSGML v1.0//EN
CALSCALE:GREGORIAN
METHOD:PUBLISH
BEGIN:VEVENT
UID:69e8a48c95abd
DTSTAMP:20260422T103556Z
DTSTART:20200722
DTEND:20200723
LOCATION:Mädchenzentrum\,  PERSPEKTIV e.V. Kronenburggasse 13\,  99084
SUMMARY:Reiterhof Stotternheim - Mädchenzentrum Erfurt
DESCRIPTION:Mi.      22.07.           13:00 Uhr   MäZe  
                  Reiterhof Stotternheim           
     (8 € ) Kontakt: Information und Anmeldung unter: 0361-6438344 Mäd
 chenzentrum\,  Kronenburggasse 13\,  99084 Erfurt www.perspektiv-erfurt.de\
 nhttps://stadtjugendring-erfurt.de/events/reiterhof-stotternheim-maedchenze
 ntrum-erfurt
URL:https://stadtjugendring-erfurt.de/events/reiterhof-stotternheim-maedchenzentrum-erfurt
END:VEVENT
END:VCALENDAR