BEGIN:VCALENDAR
VERSION:2.0
PRODID:-//eventon.com NONSGML v1.0//EN
CALSCALE:GREGORIAN
METHOD:PUBLISH
BEGIN:VEVENT
UID:69e4dfed1477c
DTSTAMP:20260419T140013Z
DTSTART:20200722T133000Z
DTEND:20200722T153000Z
LOCATION:Begegnungszentrum ANDERS Alfred-Delp-Ring 77/78; 99087 Erfurt
SUMMARY:Spielmobilwoche - Jesus Projekt Erfurt e.V.
DESCRIPTION:Spielmobilwoche vom 20.-24.07.2020 jeweils von 15:30-17:30 Uhr 
 im Stadtteil Roter Berg für Kinder von 6-12 Jahren\,  Kosten: Keine\nhttps
 ://stadtjugendring-erfurt.de/events/spielmobilwoche-jesus-projekt-erfurt-e-
 v-3
URL:https://stadtjugendring-erfurt.de/events/spielmobilwoche-jesus-projekt-erfurt-e-v-3
END:VEVENT
END:VCALENDAR