BEGIN:VCALENDAR
VERSION:2.0
PRODID:-//eventon.com NONSGML v1.0//EN
CALSCALE:GREGORIAN
METHOD:PUBLISH
BEGIN:VEVENT
UID:69e737c4de299
DTSTAMP:20260421T083932Z
DTSTART:20200814
DTEND:20200815
LOCATION:Kinderfreizeittreff HOPPLA Hallesche Str.19\,  99085 Erfurt
SUMMARY:Ausﬂugstag! - Kinderfreizeitreff Hoppla
DESCRIPTION:Ausﬂugstag! Im Rahmen der offiziellen Öffnungszeit des Kinde
 rfreizeitreff Hoppla.\nhttps://stadtjugendring-erfurt.de/events/kinotag-kin
 derfreizeitreff-hoppla
URL:https://stadtjugendring-erfurt.de/events/kinotag-kinderfreizeitreff-hoppla
END:VEVENT
END:VCALENDAR