BEGIN:VCALENDAR
VERSION:2.0
PRODID:-//eventon.com NONSGML v1.0//EN
CALSCALE:GREGORIAN
METHOD:PUBLISH
BEGIN:VEVENT
UID:69e4c79d8a7ab
DTSTAMP:20260419T121629Z
DTSTART:20200810
DTEND:20200811
LOCATION:IMAGO Kunst- und Designschule e.V.  Juri-Gagarin-Ring 111
SUMMARY:Buchstabensalat für Kinder
DESCRIPTION:Buchstabensalat für Kinder Für Kinder\,  die gerade erst das 
 Schreiben für sich entdecken. Der Fokus liegt hier auf den einzelnen Buchs
 taben und ihrer Gestaltung mit Formen und Farben. Wir würden die einzelnen
  Buchstaben groß und bunt mit dem Pinsel schreiben\,  stempeln und malen\,
   sie mit Farbe ausschmücken und durch einzelne[..]\nhttps://stadtjugendri
 ng-erfurt.de/events/buchstabensalat-fuer-kinder
URL:https://stadtjugendring-erfurt.de/events/buchstabensalat-fuer-kinder
END:VEVENT
END:VCALENDAR