BEGIN:VCALENDAR
VERSION:2.0
PRODID:-//eventon.com NONSGML v1.0//EN
CALSCALE:GREGORIAN
METHOD:PUBLISH
BEGIN:VEVENT
UID:69e8a39241303
DTSTAMP:20260422T103146Z
DTSTART:20200211T130000Z
DTEND:20200211T160000Z
LOCATION:
SUMMARY:Projekt „Frei(t)raum-Sozialraum“
DESCRIPTION:Projekt „Frei(t)raum-Sozialraum Die Kinder/Jugendlichen des S
 tadtteiles Nord zeigen uns ihre Lebenswelt. Das 3-tägige Projekt wird begl
 eitet von Video und Kamera mit dem Ziel einen kleinen Film\,  welcher im An
 schluss gemeinsam geschnitten wird\,  entstehen zu lassen. Schaut rein\,  w
 ir freuen uns auf Euch! Anzahl TeilnehmerInnen: max. 10/Tag Anmeldung im Vo
 rfeld erforderlich.[..]\nhttps://stadtjugendring-erfurt.de/events/projekt-f
 reitraum-sozialraum-2
URL:https://stadtjugendring-erfurt.de/events/projekt-freitraum-sozialraum-2
END:VEVENT
END:VCALENDAR