BEGIN:VCALENDAR
VERSION:2.0
PRODID:-//eventon.com NONSGML v1.0//EN
CALSCALE:GREGORIAN
METHOD:PUBLISH
BEGIN:VEVENT
UID:69e737b21ea8c
DTSTAMP:20260421T083914Z
DTSTART:20191011T110000Z
DTEND:20191011T150000Z
LOCATION:CVJM Erfurt e.V. CVJM Erfurt e.V.\,  Magdeburger Allee 46\,  99086 Erfurt\,  Deutschland
SUMMARY:Ernte-Dance-Fest
DESCRIPTION:Name des Angebots: Ernte-Dance-Fest Welcher Altersklasse: 10 -1
 6 Jahre Kostet es etwas oder ist es kostenfrei?: kostenfrei Von wann bis wa
 nn findet es statt und wo?: 13:00 &#8211; 17:00 CVJM Erfurt e.V. Magdeburge
 r Allee 46 Kurze Beschreibung: Wir feiern eine mega Party zur Erntezeit. Es
  gibt Crepes\,  Dance-Off\,  Partyspiele\,  Gute[..]\nhttps://stadtjugendri
 ng-erfurt.de/events/ernte-dance-fest
URL:https://stadtjugendring-erfurt.de/events/ernte-dance-fest
END:VEVENT
END:VCALENDAR