BEGIN:VCALENDAR
VERSION:2.0
PRODID:-//eventon.com NONSGML v1.0//EN
CALSCALE:GREGORIAN
METHOD:PUBLISH
BEGIN:VEVENT
UID:69e4c7cc68da3
DTSTAMP:20260419T121716Z
DTSTART:20190804
DTEND:20190805
LOCATION:
SUMMARY:Ferienfreizeit - In den Sommerferien einfach mal abheben
DESCRIPTION:In den Sommerferien einfach mal abheben Dieser Slogan ist beim 
 Ferienlager „Jugend fliegt“ der Luftsportjugend im Deutschen Aeroclub P
 rogramm. In der Woche vom 4.-10. August 2019 lernen Jugendliche im Alter zw
 ischen 14-17 Jahren auf dem Flugplatz Eisenach-Kindel die Welt des Fliegens
  und des Luftsports kennen. Begleitet von zahlreichen Workshops schnuppern[
 ..]\nhttps://stadtjugendring-erfurt.de/events/ferienfreizeit-in-den-sommerf
 erien-einfach-mal-abheben
URL:https://stadtjugendring-erfurt.de/events/ferienfreizeit-in-den-sommerferien-einfach-mal-abheben
END:VEVENT
END:VCALENDAR