BEGIN:VCALENDAR
VERSION:2.0
PRODID:-//eventon.com NONSGML v1.0//EN
CALSCALE:GREGORIAN
METHOD:PUBLISH
BEGIN:VEVENT
UID:69e4de954f2f1
DTSTAMP:20260419T135429Z
DTSTART:20190715
DTEND:20190716
LOCATION:Reinsfeld (im Ilmkreis zwischen Ilmenau und Arnstadt) Reinsfeld (im Ilmkreis zwischen Ilmenau und Arnstadt)
SUMMARY:Ferienfreizeit - Sommerfreizeit in Reinsfeld
DESCRIPTION:Sommerfreizeit in Reinsfeld (im Ilmkreis) 15. &#8211; 19.07.201
 9 Altersgruppe: 9 &#8211; 16jährige Kosten: 90 Euro / Ermäßigung möglic
 h Verantwortliche: Kerstin Brückner und Matthias Weiß Aktionen: Geocachin
 g\,  Kino\,  Baden gehen\,  Lagerfeuer\,  Rudern\,  Kunstaktionen\,  Spiele
  und ein Überraschungsausflug Anmeldung: Tel. 0361/6422661 oder Email Offe
 ne.Arbeit.Erfurt@gmx.de\nhttps://stadtjugendring-erfurt.de/events/ferienfre
 izeit-sommerfreizeit-in-reinsfeld
URL:https://stadtjugendring-erfurt.de/events/ferienfreizeit-sommerfreizeit-in-reinsfeld
END:VEVENT
END:VCALENDAR