BEGIN:VCALENDAR
VERSION:2.0
PRODID:-//eventon.com NONSGML v1.0//EN
CALSCALE:GREGORIAN
METHOD:PUBLISH
BEGIN:VEVENT
UID:69e8865037df2
DTSTAMP:20260422T082656Z
DTSTART:20190710T130000Z
DTEND:20190710T150000Z
LOCATION:
SUMMARY:Wasserspiele
DESCRIPTION:Mi 10.07. Wasserspiele Alter06-27 Anzahloffen Uhrzeit 
 15-17 Uhr\nhttps://stadtjugendring-erfurt.de/events/wasserspiele-2
URL:https://stadtjugendring-erfurt.de/events/wasserspiele-2
END:VEVENT
END:VCALENDAR