BEGIN:VCALENDAR
VERSION:2.0
PRODID:-//eventon.com NONSGML v1.0//EN
CALSCALE:GREGORIAN
METHOD:PUBLISH
BEGIN:VEVENT
UID:69e4c71f630ff
DTSTAMP:20260419T121423Z
DTSTART:20190709T080000Z
DTEND:20190709T150000Z
LOCATION:Jugendhaus Drosselberg Am Drosselberg 24 99097 Erfurt
SUMMARY:Stadtbummel durch Erfurt (incl. Besuch alte Synagoge)
DESCRIPTION:&#8211; für alle Altersgruppen ab 7 Jahre offen &#8211; 10-17 
 Uhr (Treffpunkt Jugendhaus) &#8211; Petersberg\,  Klein- Venedig; alte Syna
 goge und Eure Lieblingsorte\,  zu denen Ihr uns führt Anmeldung und näher
 e Informationen unter 0361-4233934 oder kjh-drosselberg@perspektiv-erfurt.d
 e\nhttps://stadtjugendring-erfurt.de/events/stadtbummel-durch-erfurt-incl-b
 esuch-alte-synagoge
URL:https://stadtjugendring-erfurt.de/events/stadtbummel-durch-erfurt-incl-besuch-alte-synagoge
END:VEVENT
END:VCALENDAR