BEGIN:VCALENDAR
VERSION:2.0
PRODID:-//eventon.com NONSGML v1.0//EN
CALSCALE:GREGORIAN
METHOD:PUBLISH
BEGIN:VEVENT
UID:69e4dfbd8d951
DTSTAMP:20260419T135925Z
DTSTART:20190816T080000Z
DTEND:20190816T160000Z
LOCATION:Jugendhaus Maxi - PERSPEKTIV e.V.\,  Rosa-Luxemburg-Straße 50\,  99086 Erfurt\,  Deutschland Jugendhaus Maxi - PERSPEKTIV e.V.\,  Rosa-Luxemburg-Straße 50\,  99086 Erfurt\,  Deutschland
SUMMARY:Tagesausflug zum Inselsberg
DESCRIPTION:Wir besuchen den Funpark Inselsberg und gehen danach in Dachwig
  baden. Anmeldung erforderlich! Teilnehmerbetrag: 7€ Kontakt: Jugendhaus 
 MAXI 0361/5623391 jh-maxi@perspektiv-erfurt.de\nhttps://stadtjugendring-erf
 urt.de/events/tagesausflug-zum-inselsberg
URL:https://stadtjugendring-erfurt.de/events/tagesausflug-zum-inselsberg
END:VEVENT
END:VCALENDAR