BEGIN:VCALENDAR
VERSION:2.0
PRODID:-//eventon.com NONSGML v1.0//EN
CALSCALE:GREGORIAN
METHOD:PUBLISH
BEGIN:VEVENT
UID:69e78c5f46255
DTSTAMP:20260421T144031Z
DTSTART:20260415
DTEND:20260416
LOCATION:Jugendhaus Fritzer Talstraße 13\,  99089 Erfurt\,  Deutschland
SUMMARY:Koch ohne Knochen
DESCRIPTION:Kochen ohne Knochen Am 15.04.2026 ab 16 Uhr wird Jugendhaus Fri
 tzer ein fleischfreies Kochangebot sein.\nhttps://stadtjugendring-erfurt.de
 /events/koch-ohne-knochen
URL:https://stadtjugendring-erfurt.de/events/koch-ohne-knochen
END:VEVENT
END:VCALENDAR