BEGIN:VCALENDAR
VERSION:2.0
PRODID:-//eventon.com NONSGML v1.0//EN
CALSCALE:GREGORIAN
METHOD:PUBLISH
BEGIN:VEVENT
UID:69e4c6a536e89
DTSTAMP:20260419T121221Z
DTSTART:20260706
DTEND:20260707
LOCATION:Kidsklub Purpur Teichstraße 63\,  99086 Erfurt
SUMMARY:5 Tage 5 Freibäder
DESCRIPTION:5 Tage 5 Freibäder Die Aktion &#8222;5 Tage 5 Freibäder&#8220
 ; vom Kidsklub Purpur findet vom 06. bis 10. Juli 2026 täglich von 9 bis 1
 6 Uhr statt. Weitere Infos folgen!\nhttps://stadtjugendring-erfurt.de/event
 s/5-tage-5-freibaeder-2
URL:https://stadtjugendring-erfurt.de/events/5-tage-5-freibaeder-2
END:VEVENT
END:VCALENDAR