BEGIN:VCALENDAR
VERSION:2.0
PRODID:-//eventon.com NONSGML v1.0//EN
CALSCALE:GREGORIAN
METHOD:PUBLISH
BEGIN:VEVENT
UID:69e8dbd3c7fdf
DTSTAMP:20260422T143147Z
DTSTART:20260803
DTEND:20260804
LOCATION:Schullandheim Geratal Jüchnitz 1a\,  99331 Geratal
SUMMARY:Ferienfreizeit Thüringer Wald
DESCRIPTION:Ferienfreizeit Thüringer Wald Das Unsichtbare des Lebens Komm 
 mit uns ins fantastische Schullandheim Geraberg. Mitten im Wald gelegen\,  
 grenzt es direkt an das UNESCO-Biosphärenreservat Thüringer Wald im Jüch
 nitzgrund. Ein Urwaldpfad und der Klimaweg laden zu lehrreichen Entdeckungs
 -reisen in der Natur ein. Es sind noch nicht alle Details geplant\,  aber d
 ie[..]\nhttps://stadtjugendring-erfurt.de/events/ferienfreizeit-thueringer-
 wald
URL:https://stadtjugendring-erfurt.de/events/ferienfreizeit-thueringer-wald
END:VEVENT
END:VCALENDAR