BEGIN:VCALENDAR
VERSION:2.0
PRODID:-//eventon.com NONSGML v1.0//EN
CALSCALE:GREGORIAN
METHOD:PUBLISH
BEGIN:VEVENT
UID:69e89f90592ad
DTSTAMP:20260422T101440Z
DTSTART:20260619
DTEND:20260620
LOCATION:NaturErlebnisHaus Leutratal
SUMMARY:Wildlife kompakt
DESCRIPTION:Wildlife kompakt &#8211; Draußen schlafen für Unerfahrene Ein
 e Nacht unter freiem Himmel – ganz ohne Zelt\,  aber mit viel Natur! Wir 
 zeigen dir\,  wie einfach es sein kann\,  draußen zu übernachten und was 
 du dafür brauchst. Gemeinsam bauen wir ein kleines Nachtlager\,  kochen am
  Feuer und erleben den Sternenhimmel in[..]\nhttps://stadtjugendring-erfurt
 .de/events/wildlife-kompakt
URL:https://stadtjugendring-erfurt.de/events/wildlife-kompakt
END:VEVENT
END:VCALENDAR