BEGIN:VCALENDAR
VERSION:2.0
PRODID:-//eventon.com NONSGML v1.0//EN
CALSCALE:GREGORIAN
METHOD:PUBLISH
BEGIN:VEVENT
UID:69e89dbee66e0
DTSTAMP:20260422T100654Z
DTSTART:20260327
DTEND:20260328
LOCATION:Liepe im Naturpark Westhavelland (Brandenburg)
SUMMARY:Ornicamp Westhavelland
DESCRIPTION:Ornicamp Westhavelland &#8211; Großtrappen\,  Wasservögel &am
 p; Co. Ausgerüstet mit Spektiven und Ferngläsern wollen wir dir bei unser
 em Ornicamp im Havelluch in Brandenburg auf mehreren Exkursionen die hier l
 ebenden Vogelarten zeigen. Dabei sind im zeitigen Frühjahr neben Zugvögel
 n auch schon viele Brutvögel bei der Balz zu entdecken. Zum Beispiel die g
 efährdete[..]\nhttps://stadtjugendring-erfurt.de/events/ornicamp-westhavel
 land
URL:https://stadtjugendring-erfurt.de/events/ornicamp-westhavelland
END:VEVENT
END:VCALENDAR