BEGIN:VCALENDAR
VERSION:2.0
PRODID:-//eventon.com NONSGML v1.0//EN
CALSCALE:GREGORIAN
METHOD:PUBLISH
BEGIN:VEVENT
UID:69e88784e6980
DTSTAMP:20260422T083204Z
DTSTART:20250711
DTEND:20250712
LOCATION:Kinderfreizeittreff HOPPLA Hallesche Str.19\,  99085 Erfurt
SUMMARY:Kochstudio HOPPLA
DESCRIPTION:Kochstudio HOPPLA 11.07.2025 12-17 Uhr KFT Hoppla Sommerferien 
 2025 Öffnungszeiten Ferien: Mo-Fr 12-17 Uhr Für mehr Info´s und Anmeldun
 gen bitte direkt an das Hoppla wenden. Kinderfreizeittreff HOPPLAKindervere
 inigung Erfurt e. V. Hallesche Straße 19\,  99085 ErfurtTelefon: 0361/5610
 674E-Mail: hoppla98@arcor.de\nhttps://stadtjugendring-erfurt.de/events/koch
 studio-hoppla
URL:https://stadtjugendring-erfurt.de/events/kochstudio-hoppla
END:VEVENT
END:VCALENDAR