BEGIN:VCALENDAR
VERSION:2.0
PRODID:-//eventon.com NONSGML v1.0//EN
CALSCALE:GREGORIAN
METHOD:PUBLISH
BEGIN:VEVENT
UID:69e4999a48287
DTSTAMP:20260419T090010Z
DTSTART:20250701T130000Z
DTEND:20250701T170000Z
LOCATION:Freizeitreff Schwerborn Kastanienstr. 15\,  99095 Erfurt (Schwerborn)
SUMMARY:Kleine Ferienauftaktparty
DESCRIPTION:Kleine Ferienauftaktparty im Freizeittreff Schwerborn Ferienauf
 taktparty mit verschiedenen spielerischen und kulinarischen Überraschungen
 .\nhttps://stadtjugendring-erfurt.de/events/kleine-ferienauftaktparty-2
URL:https://stadtjugendring-erfurt.de/events/kleine-ferienauftaktparty-2
END:VEVENT
END:VCALENDAR