BEGIN:VCALENDAR
VERSION:2.0
PRODID:-//eventon.com NONSGML v1.0//EN
CALSCALE:GREGORIAN
METHOD:PUBLISH
BEGIN:VEVENT
UID:69e88784a4873
DTSTAMP:20260422T083204Z
DTSTART:20250808
DTEND:20250809
LOCATION:Freizeittreff Stotternheim Freizeittreff Stotternheim\,  Walter – Rein – Straße 154\,  99095 Erfurt
SUMMARY:Ferienabschlussfest FZT Stotternheim
DESCRIPTION:Ferienabschlussfest FZT Stotternheim Freitag\,  08.08.2025\,  a
 b 16 Uhr Wer Lust auf Natur hat\,  ist heute genau richtig bei unserem Ange
 bot. Es geht ab in den Garten und diesen werden wir ausgiebig genießen\,  
 mit großen und kleinen Spielen. Im Anschluss daran erwartet Euch noch eine
  kleine Überraschung.\nhttps://stadtjugendring-erfurt.de/events/ferienabsc
 hlussfest-fzt-stotternheim-2
URL:https://stadtjugendring-erfurt.de/events/ferienabschlussfest-fzt-stotternheim-2
END:VEVENT
END:VCALENDAR