BEGIN:VCALENDAR
VERSION:2.0
PRODID:-//eventon.com NONSGML v1.0//EN
CALSCALE:GREGORIAN
METHOD:PUBLISH
BEGIN:VEVENT
UID:69e4cf927a61e
DTSTAMP:20260419T125026Z
DTSTART:20250728
DTEND:20250729
LOCATION:Freizeittreff Stotternheim Freizeittreff Stotternheim\,  Walter – Rein – Straße 154\,  99095 Erfurt
SUMMARY:Ytongbearbeitung - „Kreative Kunst und künstlerisches Handwerk“
DESCRIPTION:Ytongbearbeitung &#8211; „Kreative Kunst und künstlerisches 
 Handwerk“ im FZT Stotternheim Montag/ Mittwoch\,  28./ 30.07.2025\,  ab 1
 6 Uhr\nhttps://stadtjugendring-erfurt.de/events/ytongbearbeitung-kreative-k
 unst-und-kuenstlerisches-handwerk
URL:https://stadtjugendring-erfurt.de/events/ytongbearbeitung-kreative-kunst-und-kuenstlerisches-handwerk
END:VEVENT
END:VCALENDAR