BEGIN:VCALENDAR
VERSION:2.0
PRODID:-//eventon.com NONSGML v1.0//EN
CALSCALE:GREGORIAN
METHOD:PUBLISH
BEGIN:VEVENT
UID:69e4c643b7885
DTSTAMP:20260419T121043Z
DTSTART:20250721T080000Z
DTEND:20250725T120000Z
LOCATION:my Music Company Schillerstraße 27\,  99096 Erfurt
SUMMARY:Ab auf die Bühne
DESCRIPTION:Ab auf die Bühne Musical Camp in den Sommerferien Wann: 21.-25
 .07.2025 10-14 Uhr Kosten: 119€ für die gesamte Woche Was: Tanz\,  Schau
 spiel\,  Gesang Alles ist möglich und wir selbst sind Drehbuchschreiber. D
 abei lassen wir uns von bekannten Musicals inspirieren. Lass uns gemeinsam 
 Abenteuer schreiben! Abschlussaufführung immer am Freitag von 13-14[..]\nh
 ttps://stadtjugendring-erfurt.de/events/ab-auf-die-buehne
URL:https://stadtjugendring-erfurt.de/events/ab-auf-die-buehne
END:VEVENT
END:VCALENDAR