BEGIN:VCALENDAR
VERSION:2.0
PRODID:-//eventon.com NONSGML v1.0//EN
CALSCALE:GREGORIAN
METHOD:PUBLISH
BEGIN:VEVENT
UID:69eb285cacfc9
DTSTAMP:20260424T082252Z
DTSTART:20250411
DTEND:20250412
LOCATION:Jugendhaus Fritzer Talstraße 13\,  99089 Erfurt\,  Deutschland
SUMMARY: Games unplugged\,  Jugendhaus Fritzer
DESCRIPTION: Games unplugged\,  Jugendhaus Fritzer am 11.04.2025 ab 15:00 
 Uhr Für nähere Informationen bitte direkt an das Jugendhaus wenden.\nhttp
 s://stadtjugendring-erfurt.de/events/games-unplugged-jugendhaus-fritzer
URL:https://stadtjugendring-erfurt.de/events/games-unplugged-jugendhaus-fritzer
END:VEVENT
END:VCALENDAR