BEGIN:VCALENDAR
VERSION:2.0
PRODID:-//eventon.com NONSGML v1.0//EN
CALSCALE:GREGORIAN
METHOD:PUBLISH
BEGIN:VEVENT
UID:69e4c807694a7
DTSTAMP:20260419T121815Z
DTSTART:20250416
DTEND:20250417
LOCATION:Jugendhaus Maxi PERSPEKTIV Erfurt e.V.\,  Rosa-Luxemburg-Straße 50a\,  Erfurt\,  Deutschland Jugendhaus Maxi PERSPEKTIV Erfurt e.V.\,  Rosa-Luxemburg-Straße 50a\,  Erfurt\,  Deutschland
SUMMARY:Fahrt in den Zoopark Gotha
DESCRIPTION:Fahrt in den Zoopark Gotha Am 16.04. macht das Maxi einen Ausfl
 ug in den Zoopark Gotha\,  die Anmeldung ist direkt im Jugendhaus möglich.
  Tel.: &nbsp;0361 5623391 &nbsp;&nbsp;&nbsp; &nbsp;&nbsp;&nbsp;&nbsp; 0163 
 2800993\nhttps://stadtjugendring-erfurt.de/events/fahrt-in-den-zoopark-goth
 a
URL:https://stadtjugendring-erfurt.de/events/fahrt-in-den-zoopark-gotha
END:VEVENT
END:VCALENDAR