BEGIN:VCALENDAR
VERSION:2.0
PRODID:-//eventon.com NONSGML v1.0//EN
CALSCALE:GREGORIAN
METHOD:PUBLISH
BEGIN:VEVENT
UID:69e89e5f4747a
DTSTAMP:20260422T100935Z
DTSTART:20240722
DTEND:20240723
LOCATION:Volkshochschule Erfurt Schottenstraße 7
SUMMARY:Mein Superheld – Comic Umsetzung
DESCRIPTION:Mein Superheld – Comic Umsetzung Der Traum\,  einen eigenen S
 uperhelden zu gestalten oder sogar selbst einer zu sein\,  ist Antrieb in d
 iesem Projekt. Wir werden Gestaltungskniffe im Bereich Charakterdesign\,  K
 örperbau und Superpower erlernen und diese mit verschiedenen Materialien z
 u unserem eigenen Superhelden modellieren. Vorher wird auf Papier entworfen
 \,  verworfen –[..]\nhttps://stadtjugendring-erfurt.de/events/mein-superh
 eld-comic-umsetzung
URL:https://stadtjugendring-erfurt.de/events/mein-superheld-comic-umsetzung
END:VEVENT
END:VCALENDAR