BEGIN:VCALENDAR
VERSION:2.0
PRODID:-//eventon.com NONSGML v1.0//EN
CALSCALE:GREGORIAN
METHOD:PUBLISH
BEGIN:VEVENT
UID:69eceae1a57d6
DTSTAMP:20260425T162505Z
DTSTART:20240708
DTEND:20240709
LOCATION:CVJM Jugendcamp Hoheneiche Hoheneiche 1a\,  07318 Saalfeld/Saale
SUMMARY:International Youth Camp 2024
DESCRIPTION:International Youth Camp 2024 Erlebe eine unvergessliche Erfahr
 ung! Dich erwartet ein internationales Ferienerlebnis\,  woran du dich noch
  lange erinnern wirst. Es wird eine gefüllte Woche mit ganz viel Kulturaus
 tausch\,  Englisch\,  Spaß\,  Gemeinschaft und internationalen Erfahrungen
 . Unser Campgelände in Hoheneiche bietet hierfür ideale Bedingungen und d
 u wirst schnell dein Englisch/Spanisch verbessern[..]\nhttps://stadtjugendr
 ing-erfurt.de/events/international-youth-camp-2024
URL:https://stadtjugendring-erfurt.de/events/international-youth-camp-2024
END:VEVENT
END:VCALENDAR