BEGIN:VCALENDAR
VERSION:2.0
PRODID:-//eventon.com NONSGML v1.0//EN
CALSCALE:GREGORIAN
METHOD:PUBLISH
BEGIN:VEVENT
UID:69e9d625c97cf
DTSTAMP:20260423T081949Z
DTSTART:20231009T120000Z
DTEND:20231014T140000Z
LOCATION:Besucherzentrum Petersberg Petersberg 3\,  99084 Erfurt
SUMMARY:Familienführung auf der Zitadelle Petersberg
DESCRIPTION:Familienführung auf der Zitadelle Petersberg Wer sich auf eine
  Zeitreise in die Vergangenheit begeben möchte\,  ist in den diesjährigen
  Herbstferien auf der Zitadelle Petersberg in Erfurt genau richtig. Die Fam
 ilienführung „Auf in den Berg“ führt alle großen und kleinen Entdeck
 er zu historischen Orten auf dem Petersberg und hinein in die[..]\nhttps://
 stadtjugendring-erfurt.de/events/familienfuehrung-auf-der-zitadelle-petersb
 erg-2
URL:https://stadtjugendring-erfurt.de/events/familienfuehrung-auf-der-zitadelle-petersberg-2
END:VEVENT
END:VCALENDAR