BEGIN:VCALENDAR
VERSION:2.0
PRODID:-//eventon.com NONSGML v1.0//EN
CALSCALE:GREGORIAN
METHOD:PUBLISH
BEGIN:VEVENT
UID:69e4c81c08756
DTSTAMP:20260419T121836Z
DTSTART:20231006
DTEND:20231007
LOCATION:Jugendhaus am Wiesenhügel\,  Färberwaidweg 10\,  99097 Erfurt Färberwaidweg 10\,  99097 Erfurt
SUMMARY:Ausflug zur Trampolinhalle (MY Jump)
DESCRIPTION:MY Jump Weitere Informationen sowie Anmeldung zu den Veranstalt
 ungen bei uns im Haus.\nhttps://stadtjugendring-erfurt.de/events/ausflug-zu
 r-trampolinhalle-my-jump
URL:https://stadtjugendring-erfurt.de/events/ausflug-zur-trampolinhalle-my-jump
END:VEVENT
END:VCALENDAR