BEGIN:VCALENDAR
VERSION:2.0
PRODID:-//eventon.com NONSGML v1.0//EN
CALSCALE:GREGORIAN
METHOD:PUBLISH
BEGIN:VEVENT
UID:69e8a1f7f1ac6
DTSTAMP:20260422T102455Z
DTSTART:20231009
DTEND:20231010
LOCATION:Volkshochschule Erfurt Schottenstraße 7
SUMMARY:Marionetten-Figuren – plastische Gestaltung
DESCRIPTION:plastische Gestaltung In diesem Workshop werden wir Marionetten
 -Figuren aus den verschiedensten Materialien bauen. Nach Euren Entwürfen u
 nd mit ganz viel Phantasie entstehen kleine selbst erfundene Spielfiguren. 
 Es wird geklebt\,  gemalt\,  geschnitten\,  genäht und gesägt. Eure Figur
 en werden dann in kleinen selbst erfundenen Geschichten\,  in einer von Euc
 h selbst angefertigten Theaterbühne\, [..]\nhttps://stadtjugendring-erfurt
 .de/events/marionetten-figuren-plastische-gestaltung
URL:https://stadtjugendring-erfurt.de/events/marionetten-figuren-plastische-gestaltung
END:VEVENT
END:VCALENDAR