BEGIN:VCALENDAR
VERSION:2.0
PRODID:-//eventon.com NONSGML v1.0//EN
CALSCALE:GREGORIAN
METHOD:PUBLISH
BEGIN:VEVENT
UID:69e4c7d8c8af4
DTSTAMP:20260419T121728Z
DTSTART:20230717T120000Z
DTEND:20230721T170000Z
LOCATION:Freizeittreff Bischleben Freizeittreff Bischleben\,  Lindenplatz 6\,  99094 Bischleben
SUMMARY:FZT Bischleben „Sportolympiade – Mehrkampf“
DESCRIPTION:Ganz nach dem Motto „Fit for Fun“ widmen wir uns an diesen 
 5 Tagen in verschiedenen Disziplinen ganz dem Sport. Die ersten zwei Tage s
 tehen Euch zum freien Training zur Verfügung und von Mittwoch bis Freitag 
 findet dann die große Sportolympiade statt. Es werden in jeder Disziplin P
 unkte gesammelt (z.B.[..]\nhttps://stadtjugendring-erfurt.de/events/sportol
 ympiade-mehrkampf
URL:https://stadtjugendring-erfurt.de/events/sportolympiade-mehrkampf
END:VEVENT
END:VCALENDAR