BEGIN:VCALENDAR
VERSION:2.0
PRODID:-//eventon.com NONSGML v1.0//EN
CALSCALE:GREGORIAN
METHOD:PUBLISH
BEGIN:VEVENT
UID:69e4c7a62a90c
DTSTAMP:20260419T121638Z
DTSTART:20230812T140000Z
DTEND:20230812T160000Z
LOCATION:Lagune Erfurt Werner-Uhlworm-Straße 2\,  99085 Erfurt
SUMMARY:FamiliYeah Die kleine Meerjugfrau - Offene Probe
DESCRIPTION:Wie laufen Proben im Theater eigentlich so ab? Wir\,  die Blaue
  Bühne Erfurt\,  stellen für unser Herbstprogramm ein neues Kinderstück 
 auf die Beine\,  und ihr könnt dabei sein\,  und einen Blick hinter die Ku
 lissen wagen!\nhttps://stadtjugendring-erfurt.de/events/familiyeah-die-klei
 ne-meerjugfrau-offene-probe
URL:https://stadtjugendring-erfurt.de/events/familiyeah-die-kleine-meerjugfrau-offene-probe
END:VEVENT
END:VCALENDAR