BEGIN:VCALENDAR
VERSION:2.0
PRODID:-//eventon.com NONSGML v1.0//EN
CALSCALE:GREGORIAN
METHOD:PUBLISH
BEGIN:VEVENT
UID:69e8861d8dc68
DTSTAMP:20260422T082605Z
DTSTART:20230814
DTEND:20230815
LOCATION:Lagune Erfurt Werner-Uhlworm-Straße 2\,  99085 Erfurt
SUMMARY:Zauberwaldcamp
DESCRIPTION:Theater-Ferien für Kinder im Alter von 7 bis 16 Jahren\,  betr
 eut von einer Theaterpädagogin und einer Bildenden Künstlerin. Um Anmeldu
 ng wird gebeten.\nhttps://stadtjugendring-erfurt.de/events/familiyeah-lotta
 -und-der-staenkervogel
URL:https://stadtjugendring-erfurt.de/events/familiyeah-lotta-und-der-staenkervogel
END:VEVENT
END:VCALENDAR