BEGIN:VCALENDAR
VERSION:2.0
PRODID:-//eventon.com NONSGML v1.0//EN
CALSCALE:GREGORIAN
METHOD:PUBLISH
BEGIN:VEVENT
UID:69e74be258599
DTSTAMP:20260421T100522Z
DTSTART:20230413T130000Z
DTEND:20230413T160000Z
LOCATION:Jugendhaus Maxi - PERSPEKTIV e.V.\,  Rosa-Luxemburg-Straße 50\,  99086 Erfurt\,  Deutschland Jugendhaus Maxi - PERSPEKTIV e.V.\,  Rosa-Luxemburg-Straße 50\,  99086 Erfurt\,  Deutschland
SUMMARY:Beginn der Pflanzaktion
DESCRIPTION:\nhttps://stadtjugendring-erfurt.de/events/beginn-der-pflanzakt
 ion
URL:https://stadtjugendring-erfurt.de/events/beginn-der-pflanzaktion
END:VEVENT
END:VCALENDAR