BEGIN:VCALENDAR
VERSION:2.0
PRODID:-//eventon.com NONSGML v1.0//EN
CALSCALE:GREGORIAN
METHOD:PUBLISH
BEGIN:VEVENT
UID:69e738a11dc17
DTSTAMP:20260421T084313Z
DTSTART:20230411T110000Z
DTEND:20230411T143000Z
LOCATION:Kreativ und Abenteuerspielplatz KASpEr Vollbrachtstraße 3\,  99086
SUMMARY:Glasperlenwerkstatt
DESCRIPTION:\nhttps://stadtjugendring-erfurt.de/events/glasperlenwerkstatt
URL:https://stadtjugendring-erfurt.de/events/glasperlenwerkstatt
END:VEVENT
END:VCALENDAR