BEGIN:VCALENDAR
VERSION:2.0
PRODID:-//eventon.com NONSGML v1.0//EN
CALSCALE:GREGORIAN
METHOD:PUBLISH
BEGIN:VEVENT
UID:69e4d328a17e6
DTSTAMP:20260419T130544Z
DTSTART:20230411
DTEND:20230412
LOCATION:Volkshochschule Erfurt SchottenstraÃŸe 7
SUMMARY:Tastschreiben am Computer (ab 11 Jahre)
DESCRIPTION:Mit viel SpaÃŸ lernen Kinder und Jugendliche in kÃ¼rzester Zeit
  das 10-Finger-Schreiben. Die Vorteile machen sich bereitsbeim Schreiben de
 r Hausaufgaben oder E-Mails\,  aber spÃ¤testens im Berufsleben bemerkbar. D
 as schnelle Schreiben mitBlick auf den Bildschirm wirkt arbeitserleichternd
  und fÃ¶rdert die Konzentration. Da eine spÃ¤tere UmgewÃ¶hnung oftschwer fÃ
 ¤llt\,  ist es fÃ¼r Kinder[..]\nhttps://stadtjugendring-erfurt.de/events/ta
 stschreiben-am-computer-ab-11-jahre-4
URL:https://stadtjugendring-erfurt.de/events/tastschreiben-am-computer-ab-11-jahre-4
END:VEVENT
END:VCALENDAR