BEGIN:VCALENDAR
VERSION:2.0
PRODID:-//eventon.com NONSGML v1.0//EN
CALSCALE:GREGORIAN
METHOD:PUBLISH
BEGIN:VEVENT
UID:69e4c8078560d
DTSTAMP:20260419T121815Z
DTSTART:20230215T130000Z
DTEND:20230215T143000Z
LOCATION:Stadtmuseum Erfurt\,  Johannesstraße 169 Stadtmuseum Erfurt\,  Johannesstraße 169
SUMMARY:<strong>Wir gestalten unsere Straße</strong>
DESCRIPTION:Nach einem kurzen\,  kindgerecht gestalteten Rundgang durch die
  Ausstellung können die Kinder kreativ werden und ein eigenes Haus gestalt
 en. Das Grundgerüst eines jeden Hauses bildet eine leere Milchtüte\,  die
  nun frei als Haus gestaltet werden kann. Mit Farbe\,  Blättern\,  Blüten
 \,  Flach oder Spitzdach sind der Kreativität keine Grenze gesetzt. Genutz
 t[..]\nhttps://stadtjugendring-erfurt.de/events/wir-gestalten-unsere-strass
 e
URL:https://stadtjugendring-erfurt.de/events/wir-gestalten-unsere-strasse
END:VEVENT
END:VCALENDAR