BEGIN:VCALENDAR
VERSION:2.0
PRODID:-//eventon.com NONSGML v1.0//EN
CALSCALE:GREGORIAN
METHOD:PUBLISH
BEGIN:VEVENT
UID:69e73d4c078fb
DTSTAMP:20260421T090308Z
DTSTART:20231009
DTEND:20231010
LOCATION:Erfurt
SUMMARY:Herbstferienspiele in Erfurt
DESCRIPTION:Wenn die Tage kürzer werden\,  der Himmel längst mehr grau al
 s blau ist und das Laub langsam bunt wird\,  sind bald wieder Herbstferien.
  Hast du schon Pläne? Dann ist es höchste Zeit für die Herbstferienspiel
 e! Eine Woche voller Action\,  Spaß und schöner Momente. Dich erwarten Au
 sflüge in den Wald\,  Gruppenspiele[..]\nhttps://stadtjugendring-erfurt.de
 /events/herbstferienspiele-in-erfurt-und-gotha
URL:https://stadtjugendring-erfurt.de/events/herbstferienspiele-in-erfurt-und-gotha
END:VEVENT
END:VCALENDAR