BEGIN:VCALENDAR
VERSION:2.0
PRODID:-//eventon.com NONSGML v1.0//EN
CALSCALE:GREGORIAN
METHOD:PUBLISH
BEGIN:VEVENT
UID:69eb2a312b41a
DTSTAMP:20260424T083041Z
DTSTART:20230406
DTEND:20230407
LOCATION:Jena
SUMMARY:Exkursion zum Saurierpfad Jena
DESCRIPTION:&#8230;mit anschließendem Picknick (2 km Wanderung auf den Jen
 zig). Für Personen jeden Alters geeignet. Die Teilnahme ist für Kinder un
 d Jugendliche kostenlos.\nhttps://stadtjugendring-erfurt.de/events/exkursio
 n-zum-saurierpfad-jena
URL:https://stadtjugendring-erfurt.de/events/exkursion-zum-saurierpfad-jena
END:VEVENT
END:VCALENDAR