BEGIN:VCALENDAR
VERSION:2.0
PRODID:-//eventon.com NONSGML v1.0//EN
CALSCALE:GREGORIAN
METHOD:PUBLISH
BEGIN:VEVENT
UID:69e89f35d725b
DTSTAMP:20260422T101309Z
DTSTART:20230708
DTEND:20230709
LOCATION:
SUMMARY:DEUTSCH-UKRAINISCHES ERLEBNISCAMP
DESCRIPTION:Du bist gern aktiv und in der Natur unterwegs? Dann komm mitdeu
 tsch-ukrainischen Erlebniscamp! Zehn Tage wollen wir gemeinsam mit unserer 
 ukrainischen Partnergruppe auf der Werra paddeln\, wandern gehen\,  Rad fah
 ren und dabei die tolle Umgebung entdecken.Auf naturbelassenen Campingplät
 zen schlagen wir unsere Zelteauf und bereiten das Essen in der Gruppe zu. A
 uf[..]\nhttps://stadtjugendring-erfurt.de/events/deutsch-ukrainisches-erleb
 niscamp
URL:https://stadtjugendring-erfurt.de/events/deutsch-ukrainisches-erlebniscamp
END:VEVENT
END:VCALENDAR