BEGIN:VCALENDAR
VERSION:2.0
PRODID:-//eventon.com NONSGML v1.0//EN
CALSCALE:GREGORIAN
METHOD:PUBLISH
BEGIN:VEVENT
UID:69e4d069e3e75
DTSTAMP:20260419T125401Z
DTSTART:20230403
DTEND:20230404
LOCATION:
SUMMARY:SPRING BREAK - AB IN DEN SÜDEN
DESCRIPTION:Endlich Ferien und Zeit für eine Pause! In der ersten Ferienwo
 chekannst du mit unserem Jugendhaus DOMIZIL in den Thüringer Waldfahren. D
 ich erwartet eine actionreiche Woche zusammen mit anderen Jugendlichen aus 
 verschiedenen Jugendhäusern.Auf dem Programm stehen neben Aktivitäten im 
 Freien rund um unser Naturfreundehaus in Gießübel auch spaßige Ausflüge
  in die[..]\nhttps://stadtjugendring-erfurt.de/events/spring-break-ab-in-de
 n-sueden
URL:https://stadtjugendring-erfurt.de/events/spring-break-ab-in-den-sueden
END:VEVENT
END:VCALENDAR