BEGIN:VCALENDAR
VERSION:2.0
PRODID:-//eventon.com NONSGML v1.0//EN
CALSCALE:GREGORIAN
METHOD:PUBLISH
BEGIN:VEVENT
UID:69e7377031815
DTSTAMP:20260421T083808Z
DTSTART:20221025T130000Z
DTEND:20221025T150000Z
LOCATION:Freizeittreff Bischleben Freizeittreff Bischleben\,  Lindenplatz 6\,  99094 Bischleben
SUMMARY:kleines vorgezogenes Halloweenfest
DESCRIPTION:Wir beschäftigen uns mit Halloween in Form eines Quizzes. so e
 rfahrt Ihr die Herkunft und Geschichte zu diesem jährlichen Event\nhttps:/
 /stadtjugendring-erfurt.de/events/kleines-vorgezogenes-halloweenfest
URL:https://stadtjugendring-erfurt.de/events/kleines-vorgezogenes-halloweenfest
END:VEVENT
END:VCALENDAR