BEGIN:VCALENDAR
VERSION:2.0
PRODID:-//eventon.com NONSGML v1.0//EN
CALSCALE:GREGORIAN
METHOD:PUBLISH
BEGIN:VEVENT
UID:69eb2884353e5
DTSTAMP:20260424T082332Z
DTSTART:20221025T140000Z
DTEND:20221025T160000Z
LOCATION:
SUMMARY:Dart Turnier
DESCRIPTION:Dart Turnier\nhttps://stadtjugendring-erfurt.de/events/dart-tur
 nier-2
URL:https://stadtjugendring-erfurt.de/events/dart-turnier-2
END:VEVENT
END:VCALENDAR