BEGIN:VCALENDAR
VERSION:2.0
PRODID:-//eventon.com NONSGML v1.0//EN
CALSCALE:GREGORIAN
METHOD:PUBLISH
BEGIN:VEVENT
UID:69e76e31798db
DTSTAMP:20260421T123145Z
DTSTART:20221024
DTEND:20221025
LOCATION:Volkshochschule Erfurt Schottenstraße 7
SUMMARY:Holzbildhauerei (ab 11 Jahre)
DESCRIPTION:Holz ist warm\,  gemasert\,  mal leicht und weich\,  mal hart u
 nd grob\,  safrangelb\,  nussbraun\,  dunkel…Holz ist einfach ein wunderb
 ares Material\,  aus dem wunderbare Dinge gearbeitet werden können. Der Um
 gangverlangt jedoch\,  wie überall im Reich der Künste\,  ein gewisses Ma
 ß an Wissen über die Verarbeitung und dieEigenheiten des Rohstoffes. In d
 iesem[..]\nhttps://stadtjugendring-erfurt.de/events/holzbildhauerei-ab-11-j
 ahre
URL:https://stadtjugendring-erfurt.de/events/holzbildhauerei-ab-11-jahre
END:VEVENT
END:VCALENDAR