BEGIN:VCALENDAR
VERSION:2.0
PRODID:-//eventon.com NONSGML v1.0//EN
CALSCALE:GREGORIAN
METHOD:PUBLISH
BEGIN:VEVENT
UID:69e619f96954d
DTSTAMP:20260420T122009Z
DTSTART:20221024
DTEND:20221025
LOCATION:Volkshochschule Erfurt Schottenstraße 7
SUMMARY:Ich zeige dir\,  was ein*e Held*in ist! (14 bis 18 Jahre)
DESCRIPTION:Kursnr.: 22-89902Dauer: 24.10. bis 28.10.2022\,  täglich 10:00
  bis 15:30 Uhrgebührenfrei*\nhttps://stadtjugendring-erfurt.de/events/ich-
 zeige-dir-was-eine-heldin-ist-14-bis-18-jahre
URL:https://stadtjugendring-erfurt.de/events/ich-zeige-dir-was-eine-heldin-ist-14-bis-18-jahre
END:VEVENT
END:VCALENDAR