BEGIN:VCALENDAR
VERSION:2.0
PRODID:-//eventon.com NONSGML v1.0//EN
CALSCALE:GREGORIAN
METHOD:PUBLISH
BEGIN:VEVENT
UID:69e9d815c81a7
DTSTAMP:20260423T082805Z
DTSTART:20221017
DTEND:20221018
LOCATION:Volkshochschule Erfurt Schottenstraße 7
SUMMARY:Ich zeige dir meine*n Held*in! (10 bis 13 Jahre)
DESCRIPTION:Uns begleiten Heldeninnen jeden Tag über die verschiedensten M
 edienformate\,  egal ob auf Plakaten\,  im Radio\,  im Internet\,  in der Z
 eitung\,  auf der Leinwand oder vielleicht sogar im nahen Umfeld. Sie sind 
 allgegenwärtig. Aber was bedeutet dieses Wort eigentlich? Was macht einen 
 Held oder eine Heldin generell oder ganz spezifisch für[..]\nhttps://stadt
 jugendring-erfurt.de/events/ich-zeige-dir-meinen-heldin-10-bis-13-jahre
URL:https://stadtjugendring-erfurt.de/events/ich-zeige-dir-meinen-heldin-10-bis-13-jahre
END:VEVENT
END:VCALENDAR