BEGIN:VCALENDAR
VERSION:2.0
PRODID:-//eventon.com NONSGML v1.0//EN
CALSCALE:GREGORIAN
METHOD:PUBLISH
BEGIN:VEVENT
UID:69e8873f16b2f
DTSTAMP:20260422T083055Z
DTSTART:20220809T080000Z
DTEND:20220809T130000Z
LOCATION:Naturkundemuseum Erfurt  Große Arche 14\,  99084 Erfur
SUMMARY:Medienpädagogischer Workshop für Kinder  „Die letzten ihrer Art”  (ab 10 Jahre)
DESCRIPTION:Medienpädagogischer Workshop für Kinder &nbsp;„Die letzten 
 ihrer Art” &nbsp;(ab 10 Jahre) 09. 08. 2022 bis 12. 08. 2022&nbsp;jeweils
  10:00 Uhr bis 15:00 Uhr\nhttps://stadtjugendring-erfurt.de/events/medienpa
 edagogischer-workshop-fuer-kinder-die-letzten-ihrer-art-ab-10-jahre
URL:https://stadtjugendring-erfurt.de/events/medienpaedagogischer-workshop-fuer-kinder-die-letzten-ihrer-art-ab-10-jahre
END:VEVENT
END:VCALENDAR